BEGIN:VCALENDAR
VERSION:2.0
PRODID:-//hacksw/handcal//NONSGML v1.0//EN
BEGIN:VEVENT
SUMMARY:U13 feminines region
UID:efcd7af0-1b50-4f15-a36e-a6c4eab9375e
DTSTART:20260502T113000Z
DTEND:20260502T220000Z
LOCATION:Localisation   
CATEGORIES:Sportif
STATUS:
URL;VALUE=URI:https://www.hbcplanais.fr/evenements/2026/05/02/u13-feminines-region-2438240
END:VEVENT
END:VCALENDAR
