BEGIN:VCALENDAR
VERSION:2.0
PRODID:-//hacksw/handcal//NONSGML v1.0//EN
BEGIN:VEVENT
SUMMARY:1iere Division Dep Masculine
UID:e9302964-a8b9-4216-8c91-34e0df001ad8
DTSTART:20260425T170000Z
DTEND:20260425T220000Z
LOCATION:Localisation   
CATEGORIES:Sportif
STATUS:
URL;VALUE=URI:https://www.hbcplanais.fr/evenements/2026/04/25/1iere-division-dep-masculine-2440234
END:VEVENT
END:VCALENDAR
