BEGIN:VCALENDAR
VERSION:2.0
PRODID:-//hacksw/handcal//NONSGML v1.0//EN
BEGIN:VEVENT
SUMMARY:U15 Feminines
UID:c20feaa1-b3ab-40ea-a957-3db66043eb60
DTSTART:20260117T130000Z
DTEND:20260117T230000Z
LOCATION:Localisation   
CATEGORIES:Sportif
STATUS:
URL;VALUE=URI:https://www.hbcplanais.fr/evenements/2026/01/17/u15-feminines-2396475
END:VEVENT
END:VCALENDAR
